BEGIN:VCALENDAR
VERSION:2.0
PRODID:-//Colorado Nurses Association - ECPv6.15.20//NONSGML v1.0//EN
CALSCALE:GREGORIAN
METHOD:PUBLISH
X-ORIGINAL-URL:https://coloradonurses.org
X-WR-CALDESC:Events for Colorado Nurses Association
REFRESH-INTERVAL;VALUE=DURATION:PT1H
X-Robots-Tag:noindex
X-PUBLISHED-TTL:PT1H
BEGIN:VTIMEZONE
TZID:America/Chicago
BEGIN:DAYLIGHT
TZOFFSETFROM:-0600
TZOFFSETTO:-0500
TZNAME:CDT
DTSTART:20250309T080000
END:DAYLIGHT
BEGIN:STANDARD
TZOFFSETFROM:-0500
TZOFFSETTO:-0600
TZNAME:CST
DTSTART:20251102T070000
END:STANDARD
BEGIN:DAYLIGHT
TZOFFSETFROM:-0600
TZOFFSETTO:-0500
TZNAME:CDT
DTSTART:20260308T080000
END:DAYLIGHT
BEGIN:STANDARD
TZOFFSETFROM:-0500
TZOFFSETTO:-0600
TZNAME:CST
DTSTART:20261101T070000
END:STANDARD
BEGIN:DAYLIGHT
TZOFFSETFROM:-0600
TZOFFSETTO:-0500
TZNAME:CDT
DTSTART:20270314T080000
END:DAYLIGHT
BEGIN:STANDARD
TZOFFSETFROM:-0500
TZOFFSETTO:-0600
TZNAME:CST
DTSTART:20271107T070000
END:STANDARD
END:VTIMEZONE
BEGIN:VTIMEZONE
TZID:America/Denver
BEGIN:DAYLIGHT
TZOFFSETFROM:-0700
TZOFFSETTO:-0600
TZNAME:MDT
DTSTART:20250309T090000
END:DAYLIGHT
BEGIN:STANDARD
TZOFFSETFROM:-0600
TZOFFSETTO:-0700
TZNAME:MST
DTSTART:20251102T080000
END:STANDARD
BEGIN:DAYLIGHT
TZOFFSETFROM:-0700
TZOFFSETTO:-0600
TZNAME:MDT
DTSTART:20260308T090000
END:DAYLIGHT
BEGIN:STANDARD
TZOFFSETFROM:-0600
TZOFFSETTO:-0700
TZNAME:MST
DTSTART:20261101T080000
END:STANDARD
BEGIN:DAYLIGHT
TZOFFSETFROM:-0700
TZOFFSETTO:-0600
TZNAME:MDT
DTSTART:20270314T090000
END:DAYLIGHT
BEGIN:STANDARD
TZOFFSETFROM:-0600
TZOFFSETTO:-0700
TZNAME:MST
DTSTART:20271107T080000
END:STANDARD
END:VTIMEZONE
BEGIN:VTIMEZONE
TZID:UTC
BEGIN:STANDARD
TZOFFSETFROM:+0000
TZOFFSETTO:+0000
TZNAME:UTC
DTSTART:20250101T000000
END:STANDARD
END:VTIMEZONE
BEGIN:VEVENT
DTSTART;TZID=America/Chicago:20260428T170000
DTEND;TZID=America/Chicago:20260428T180000
DTSTAMP:20260421T181703
CREATED:20251027T165207Z
LAST-MODIFIED:20251027T165207Z
UID:9983-1777395600-1777399200@coloradonurses.org
SUMMARY:Rural Nursing ANT Meeting
DESCRIPTION:Rural Nursing ANT meets via zoom every 4th Tuesday from 5-6 pm MDT. \nJoin Zoom Meeting\nhttps://us06web.zoom.us/j/83771630280?pwd=A8MaK9MBP8VCxZcHr5227O498LXk5u.1 \nMeeting ID: 837 7163 0280\nPasscode: 634355 \n— \nOne tap mobile\n+16699006833\,\,83771630280#\,\,\,\,*634355# US (San Jose)\n+17193594580\,\,83771630280#\,\,\,\,*634355# US
URL:https://coloradonurses.org/meetings/rural-nursing-ant-meeting-19/
CATEGORIES:Rural Nursing ANT
END:VEVENT
BEGIN:VEVENT
DTSTART;TZID=America/Denver:20260504T190000
DTEND;TZID=America/Denver:20260504T200000
DTSTAMP:20260421T181703
CREATED:20260203T022801Z
LAST-MODIFIED:20260203T022801Z
UID:10255-1777921200-1777924800@coloradonurses.org
SUMMARY:Nursing Education ANT Meeting
DESCRIPTION:The Nursing Education ANT meets the first Monday of each month at 7:00 PM via Zoom. Come meet with other educators – both school of nursing and employment based – to discuss emerging ideas and best practices on topics like Artificial Intelligence. https://us06web.zoom.us/j/81513584207?pwd=chH7gaKYhD9nmm6M8OpbG78ht2x1UR.1
URL:https://coloradonurses.org/meetings/nursing-education-ant-meeting-12/
END:VEVENT
BEGIN:VEVENT
DTSTART;TZID=America/Chicago:20260505T160000
DTEND;TZID=America/Chicago:20260505T170000
DTSTAMP:20260421T181703
CREATED:20251208T183956Z
LAST-MODIFIED:20251208T183956Z
UID:10122-1777996800-1778000400@coloradonurses.org
SUMMARY:Workplace Advocacy ANT Meeting
DESCRIPTION:Workplace Advocacy ANT meetings are currently the first Tuesday of every month from 4-5 pm MT. \nZoom link will be provided in the community chat
URL:https://coloradonurses.org/meetings/workplace-advocacy-ant-meeting-18/
CATEGORIES:Workplace Advocacy ANT
END:VEVENT
BEGIN:VEVENT
DTSTART;TZID=America/Chicago:20260506T183000
DTEND;TZID=America/Chicago:20260506T200000
DTSTAMP:20260421T181703
CREATED:20251208T170128Z
LAST-MODIFIED:20260306T174025Z
UID:10089-1778092200-1778097600@coloradonurses.org
SUMMARY:CAPPN Meeting
DESCRIPTION:CAPPN meets the first Wednesday of each month at 6:30 pm MT via Zoom. \nJoin Via Zoom: https://us06web.zoom.us/j/86564841754?pwd=noqZyi2kSBkPogepbXIEbawPdGwKeC.1
URL:https://coloradonurses.org/meetings/cappn-meeting-13/
CATEGORIES:Colorado Advanced Practice Psychiatric Nurses
END:VEVENT
BEGIN:VEVENT
DTSTART;TZID=America/Denver:20260512T173000
DTEND;TZID=America/Denver:20260512T183000
DTSTAMP:20260421T181703
CREATED:20260105T220900Z
LAST-MODIFIED:20260105T220900Z
UID:10189-1778607000-1778610600@coloradonurses.org
SUMMARY:Southwest Colorado Nurses Association Meeting
DESCRIPTION:SWCNA meets virtually the second Tuesday of each month at 5:30 pm MT. Join via Zoom: https://us06web.zoom.us/j/84312594511?pwd=jufNEOQrO9YCu0vilm9qOiBlOe296q.1
URL:https://coloradonurses.org/meetings/southwest-colorado-nurses-association-meeting-4/
CATEGORIES:SWCNA
END:VEVENT
BEGIN:VEVENT
DTSTART;TZID=America/Chicago:20260518T100000
DTEND;TZID=America/Chicago:20260518T110000
DTSTAMP:20260421T181703
CREATED:20251208T185005Z
LAST-MODIFIED:20251208T185005Z
UID:10134-1779098400-1779102000@coloradonurses.org
SUMMARY:Nursing Research ANT
DESCRIPTION:The CNA Nursing Research ANT meets the third Monday of the month at 10:00 AM unless otherwise noted. \nZoom link: https://us06web.zoom.us/j/85374254163?pwd=XtbamVyhYTYNCZd0r7jTw3ZxmO7cRU.1
URL:https://coloradonurses.org/meetings/nursing-research-ant-17/
CATEGORIES:Nursing Research ANT
END:VEVENT
BEGIN:VEVENT
DTSTART;TZID=America/Chicago:20260520T180000
DTEND;TZID=America/Chicago:20260520T200000
DTSTAMP:20260421T181703
CREATED:20251208T172437Z
LAST-MODIFIED:20260128T160229Z
UID:10110-1779300000-1779307200@coloradonurses.org
SUMMARY:Nurses Furthering Knowledge Meeting
DESCRIPTION:Nurses Furthering Knowledge meets the third Wednesday of each month from 6-8:00pm unless otherwise noted. \nJoin Zoom Meeting\nhttps://us06web.zoom.us/j/82747682428?pwd=yRKBncD6tnl3Ed4wvzIGiutPcHL0k7.1 \nMeeting ID: 827 4768 2428\nPasscode: 828454 \n— \nOne tap mobile\n+13092053325\,\,82747682428#\,\,\,\,*828454# US\n+13126266799\,\,82747682428#\,\,\,\,*828454# US (Chicago)
URL:https://coloradonurses.org/meetings/nurses-furthering-knowledge-meeting-17/
CATEGORIES:Nurses Furthering Knowledge
END:VEVENT
BEGIN:VEVENT
DTSTART;TZID=America/Chicago:20260526T170000
DTEND;TZID=America/Chicago:20260526T180000
DTSTAMP:20260421T181703
CREATED:20251027T165343Z
LAST-MODIFIED:20251027T165343Z
UID:9985-1779814800-1779818400@coloradonurses.org
SUMMARY:Rural Nursing ANT Meeting
DESCRIPTION:Rural Nursing ANT meets via zoom every 4th Tuesday from 5-6 pm MDT. \nJoin Zoom Meeting\nhttps://us06web.zoom.us/j/83771630280?pwd=A8MaK9MBP8VCxZcHr5227O498LXk5u.1 \nMeeting ID: 837 7163 0280\nPasscode: 634355 \n— \nOne tap mobile\n+16699006833\,\,83771630280#\,\,\,\,*634355# US (San Jose)\n+17193594580\,\,83771630280#\,\,\,\,*634355# US
URL:https://coloradonurses.org/meetings/rural-nursing-ant-meeting-20/
CATEGORIES:Rural Nursing ANT
END:VEVENT
BEGIN:VEVENT
DTSTART;TZID=America/Chicago:20260602T160000
DTEND;TZID=America/Chicago:20260602T170000
DTSTAMP:20260421T181703
CREATED:20251208T184106Z
LAST-MODIFIED:20251208T184106Z
UID:10124-1780416000-1780419600@coloradonurses.org
SUMMARY:Workplace Advocacy ANT Meeting
DESCRIPTION:Workplace Advocacy ANT meetings are currently the first Tuesday of every month from 4-5 pm MT. \nZoom link will be provided in the community chat
URL:https://coloradonurses.org/meetings/workplace-advocacy-ant-meeting-19/
CATEGORIES:Workplace Advocacy ANT
END:VEVENT
BEGIN:VEVENT
DTSTART;TZID=America/Chicago:20260603T183000
DTEND;TZID=America/Chicago:20260603T200000
DTSTAMP:20260421T181703
CREATED:20251208T170510Z
LAST-MODIFIED:20260306T174130Z
UID:10091-1780511400-1780516800@coloradonurses.org
SUMMARY:CAPPN Meeting
DESCRIPTION:CAPPN meets the first Wednesday of each month at 6:30 pm MT via Zoom. \nJoin via Zoom: https://us06web.zoom.us/j/86564841754?pwd=noqZyi2kSBkPogepbXIEbawPdGwKeC.1
URL:https://coloradonurses.org/meetings/cappn-meeting-14/
CATEGORIES:Colorado Advanced Practice Psychiatric Nurses
END:VEVENT
BEGIN:VEVENT
DTSTART;TZID=America/Denver:20260609T173000
DTEND;TZID=America/Denver:20260609T183000
DTSTAMP:20260421T181703
CREATED:20260105T221250Z
LAST-MODIFIED:20260105T221425Z
UID:10191-1781026200-1781029800@coloradonurses.org
SUMMARY:Southwest Colorado Nurses Association Meeting
DESCRIPTION:SWCNA meets virtually the second Tuesday of each month at 5:30 pm MT. Join via Zoom: https://us06web.zoom.us/j/84312594511?pwd=jufNEOQrO9YCu0vilm9qOiBlOe296q.1
URL:https://coloradonurses.org/meetings/southwest-colorado-nurses-association-meeting-5/
CATEGORIES:SWCNA
END:VEVENT
BEGIN:VEVENT
DTSTART;TZID=America/Chicago:20260615T100000
DTEND;TZID=America/Chicago:20260615T110000
DTSTAMP:20260421T181703
CREATED:20251208T185114Z
LAST-MODIFIED:20251208T185114Z
UID:10136-1781517600-1781521200@coloradonurses.org
SUMMARY:Nursing Research ANT
DESCRIPTION:The CNA Nursing Research ANT meets the third Monday of the month at 10:00 AM unless otherwise noted. \nZoom link: https://us06web.zoom.us/j/85374254163?pwd=XtbamVyhYTYNCZd0r7jTw3ZxmO7cRU.1
URL:https://coloradonurses.org/meetings/nursing-research-ant-18/
CATEGORIES:Nursing Research ANT
END:VEVENT
BEGIN:VEVENT
DTSTART;TZID=America/Chicago:20260617T180000
DTEND;TZID=America/Chicago:20260617T200000
DTSTAMP:20260421T181703
CREATED:20251208T172551Z
LAST-MODIFIED:20260128T160358Z
UID:10112-1781719200-1781726400@coloradonurses.org
SUMMARY:Nurses Furthering Knowledge Meeting
DESCRIPTION:Nurses Furthering Knowledge meets the third Wednesday of each month from 6-8:00 pm unless otherwise noted. \nJoin Zoom Meeting\nhttps://us06web.zoom.us/j/82747682428?pwd=yRKBncD6tnl3Ed4wvzIGiutPcHL0k7.1 \nMeeting ID: 827 4768 2428\nPasscode: 828454 \n— \nOne tap mobile\n+13092053325\,\,82747682428#\,\,\,\,*828454# US\n+13126266799\,\,82747682428#\,\,\,\,*828454# US (Chicago)
URL:https://coloradonurses.org/meetings/nurses-furthering-knowledge-meeting-18/
CATEGORIES:Nurses Furthering Knowledge
END:VEVENT
BEGIN:VEVENT
DTSTART;TZID=America/Chicago:20260623T170000
DTEND;TZID=America/Chicago:20260623T180000
DTSTAMP:20260421T181703
CREATED:20251027T165514Z
LAST-MODIFIED:20251027T165514Z
UID:9987-1782234000-1782237600@coloradonurses.org
SUMMARY:Rural Nursing ANT Meeting
DESCRIPTION:Rural Nursing ANT meets via zoom every 4th Tuesday from 5-6 pm MDT. \nJoin Zoom Meeting\nhttps://us06web.zoom.us/j/83771630280?pwd=A8MaK9MBP8VCxZcHr5227O498LXk5u.1 \nMeeting ID: 837 7163 0280\nPasscode: 634355 \n— \nOne tap mobile\n+16699006833\,\,83771630280#\,\,\,\,*634355# US (San Jose)\n+17193594580\,\,83771630280#\,\,\,\,*634355# US
URL:https://coloradonurses.org/meetings/rural-nursing-ant-meeting-21/
CATEGORIES:Rural Nursing ANT
END:VEVENT
BEGIN:VEVENT
DTSTART;TZID=America/Denver:20260714T173000
DTEND;TZID=America/Denver:20260714T183000
DTSTAMP:20260421T181703
CREATED:20260105T221810Z
LAST-MODIFIED:20260105T221810Z
UID:10193-1784050200-1784053800@coloradonurses.org
SUMMARY:Southwest Colorado Nurses Association Meeting
DESCRIPTION:SWCNA meets virtually the second Tuesday of each month at 5:30 pm MT. Join via Zoom: https://us06web.zoom.us/j/84312594511?pwd=jufNEOQrO9YCu0vilm9qOiBlOe296q.1
URL:https://coloradonurses.org/meetings/southwest-colorado-nurses-association-meeting-6/
CATEGORIES:SWCNA
END:VEVENT
BEGIN:VEVENT
DTSTART;TZID=UTC:20260728T100000
DTEND;TZID=UTC:20260728T110000
DTSTAMP:20260421T181703
CREATED:20260407T185220Z
LAST-MODIFIED:20260407T185220Z
UID:10330-1785232800-1785236400@coloradonurses.org
SUMMARY:CNA Finance Committee
DESCRIPTION:The Finance Committee meets each quarter on the Tuesday before the CNA Board Meeting. Attendance is limited to committee members\, but all CNA members are invited to the Board meeting for finance updates.
URL:https://coloradonurses.org/meetings/cna-finance-committee/
END:VEVENT
BEGIN:VEVENT
DTSTART;TZID=America/Denver:20260811T173000
DTEND;TZID=America/Denver:20260811T183000
DTSTAMP:20260421T181703
CREATED:20260105T222319Z
LAST-MODIFIED:20260105T222319Z
UID:10195-1786469400-1786473000@coloradonurses.org
SUMMARY:Southwest Colorado Nurses Association Meeting
DESCRIPTION:SWCNA meets virtually the second Tuesday of each month at 5:30 pm MT. Join via Zoom: https://us06web.zoom.us/j/84312594511?pwd=jufNEOQrO9YCu0vilm9qOiBlOe296q.1
URL:https://coloradonurses.org/meetings/southwest-colorado-nurses-association-meeting-7/
CATEGORIES:SWCNA
END:VEVENT
BEGIN:VEVENT
DTSTART;TZID=America/Denver:20260908T173000
DTEND;TZID=America/Denver:20260908T183000
DTSTAMP:20260421T181703
CREATED:20260105T222526Z
LAST-MODIFIED:20260105T222526Z
UID:10197-1788888600-1788892200@coloradonurses.org
SUMMARY:Southwest Colorado Nurses Association Meeting
DESCRIPTION:SWCNA meets virtually the second Tuesday of each month at 5:30 pm MT. Join via Zoom: https://us06web.zoom.us/j/84312594511?pwd=jufNEOQrO9YCu0vilm9qOiBlOe296q.1
URL:https://coloradonurses.org/meetings/southwest-colorado-nurses-association-meeting-8/
CATEGORIES:SWCNA
END:VEVENT
BEGIN:VEVENT
DTSTART;TZID=America/Denver:20261013T173000
DTEND;TZID=America/Denver:20261013T183000
DTSTAMP:20260421T181703
CREATED:20260105T222630Z
LAST-MODIFIED:20260105T222630Z
UID:10199-1791912600-1791916200@coloradonurses.org
SUMMARY:Southwest Colorado Nurses Association Meeting
DESCRIPTION:SWCNA meets virtually the second Tuesday of each month at 5:30 pm MT. Join via Zoom: https://us06web.zoom.us/j/84312594511?pwd=jufNEOQrO9YCu0vilm9qOiBlOe296q.1
URL:https://coloradonurses.org/meetings/southwest-colorado-nurses-association-meeting-9/
CATEGORIES:SWCNA
END:VEVENT
END:VCALENDAR